BEGIN:VCALENDAR
VERSION:2.0
PRODID:-//Town of Kernersville - ECPv6.15.17.1//NONSGML v1.0//EN
CALSCALE:GREGORIAN
METHOD:PUBLISH
X-WR-CALNAME:Town of Kernersville
X-ORIGINAL-URL:https://toknc.com
X-WR-CALDESC:Events for Town of Kernersville
REFRESH-INTERVAL;VALUE=DURATION:PT1H
X-Robots-Tag:noindex
X-PUBLISHED-TTL:PT1H
BEGIN:VTIMEZONE
TZID:America/New_York
BEGIN:DAYLIGHT
TZOFFSETFROM:-0500
TZOFFSETTO:-0400
TZNAME:EDT
DTSTART:20210314T070000
END:DAYLIGHT
BEGIN:STANDARD
TZOFFSETFROM:-0400
TZOFFSETTO:-0500
TZNAME:EST
DTSTART:20211107T060000
END:STANDARD
BEGIN:DAYLIGHT
TZOFFSETFROM:-0500
TZOFFSETTO:-0400
TZNAME:EDT
DTSTART:20220313T070000
END:DAYLIGHT
BEGIN:STANDARD
TZOFFSETFROM:-0400
TZOFFSETTO:-0500
TZNAME:EST
DTSTART:20221106T060000
END:STANDARD
BEGIN:DAYLIGHT
TZOFFSETFROM:-0500
TZOFFSETTO:-0400
TZNAME:EDT
DTSTART:20230312T070000
END:DAYLIGHT
BEGIN:STANDARD
TZOFFSETFROM:-0400
TZOFFSETTO:-0500
TZNAME:EST
DTSTART:20231105T060000
END:STANDARD
END:VTIMEZONE
BEGIN:VEVENT
DTSTART;TZID=America/New_York:20220928T183000
DTEND;TZID=America/New_York:20220928T183000
DTSTAMP:20260425T210050
CREATED:20211230T142654Z
LAST-MODIFIED:20220926T211926Z
UID:12307-1664389800-1664389800@toknc.com
SUMMARY:Board of Aldermen - October Briefing
DESCRIPTION:The Kernersville Board of Aldermen will hold a regular meeting at 6:30 PM on September 28. \nThis will include a briefing on the October 4 agenda. \nThe meeting can be viewed online here: \nhttps://toknc.com/youtube \nThe agenda can be viewed here: \nhttps://toknc.civicweb.net/Portal/MeetingInformation.aspx?Org=Cal&Id=499
URL:https://toknc.com/event/board-of-aldermen-october-briefing-2/
CATEGORIES:Board of Aldermen - Briefing
END:VEVENT
END:VCALENDAR