BEGIN:VCALENDAR
VERSION:2.0
PRODID:-//Town of Kernersville - ECPv6.15.17.1//NONSGML v1.0//EN
CALSCALE:GREGORIAN
METHOD:PUBLISH
X-WR-CALNAME:Town of Kernersville
X-ORIGINAL-URL:https://toknc.com
X-WR-CALDESC:Events for Town of Kernersville
REFRESH-INTERVAL;VALUE=DURATION:PT1H
X-Robots-Tag:noindex
X-PUBLISHED-TTL:PT1H
BEGIN:VTIMEZONE
TZID:America/New_York
BEGIN:DAYLIGHT
TZOFFSETFROM:-0500
TZOFFSETTO:-0400
TZNAME:EDT
DTSTART:20160313T070000
END:DAYLIGHT
BEGIN:STANDARD
TZOFFSETFROM:-0400
TZOFFSETTO:-0500
TZNAME:EST
DTSTART:20161106T060000
END:STANDARD
BEGIN:DAYLIGHT
TZOFFSETFROM:-0500
TZOFFSETTO:-0400
TZNAME:EDT
DTSTART:20170312T070000
END:DAYLIGHT
BEGIN:STANDARD
TZOFFSETFROM:-0400
TZOFFSETTO:-0500
TZNAME:EST
DTSTART:20171105T060000
END:STANDARD
BEGIN:DAYLIGHT
TZOFFSETFROM:-0500
TZOFFSETTO:-0400
TZNAME:EDT
DTSTART:20180311T070000
END:DAYLIGHT
BEGIN:STANDARD
TZOFFSETFROM:-0400
TZOFFSETTO:-0500
TZNAME:EST
DTSTART:20181104T060000
END:STANDARD
BEGIN:DAYLIGHT
TZOFFSETFROM:-0500
TZOFFSETTO:-0400
TZNAME:EDT
DTSTART:20190310T070000
END:DAYLIGHT
BEGIN:STANDARD
TZOFFSETFROM:-0400
TZOFFSETTO:-0500
TZNAME:EST
DTSTART:20191103T060000
END:STANDARD
BEGIN:DAYLIGHT
TZOFFSETFROM:-0500
TZOFFSETTO:-0400
TZNAME:EDT
DTSTART:20200308T070000
END:DAYLIGHT
BEGIN:STANDARD
TZOFFSETFROM:-0400
TZOFFSETTO:-0500
TZNAME:EST
DTSTART:20201101T060000
END:STANDARD
BEGIN:DAYLIGHT
TZOFFSETFROM:-0500
TZOFFSETTO:-0400
TZNAME:EDT
DTSTART:20210314T070000
END:DAYLIGHT
BEGIN:STANDARD
TZOFFSETFROM:-0400
TZOFFSETTO:-0500
TZNAME:EST
DTSTART:20211107T060000
END:STANDARD
END:VTIMEZONE
BEGIN:VEVENT
DTSTART;TZID=America/New_York:20200401T183000
DTEND;TZID=America/New_York:20200401T183000
DTSTAMP:20260423T045504
CREATED:20191211T222218Z
LAST-MODIFIED:20200319T201406Z
UID:7807-1585765800-1585765800@toknc.com
SUMMARY:Board of Aldermen - Briefing
DESCRIPTION:CANCELLED
URL:https://toknc.com/event/board-of-aldermen-briefing-53/
LOCATION:Town Hall\, 134 E Mountain St\, Kernersville\, NC\, 27284\, United States
CATEGORIES:Board of Aldermen - Briefing
END:VEVENT
BEGIN:VEVENT
DTSTART;TZID=America/New_York:20200226T183000
DTEND;TZID=America/New_York:20200226T183000
DTSTAMP:20260423T045504
CREATED:20191211T222217Z
LAST-MODIFIED:20200224T205911Z
UID:7805-1582741800-1582741800@toknc.com
SUMMARY:Board of Aldermen - Briefing
DESCRIPTION:Click HERE to view the agenda.
URL:https://toknc.com/event/board-of-aldermen-briefing-52/
LOCATION:Town Hall\, 134 E Mountain St\, Kernersville\, NC\, 27284\, United States
CATEGORIES:Board of Aldermen - Briefing
END:VEVENT
BEGIN:VEVENT
DTSTART;TZID=America/New_York:20200129T183000
DTEND;TZID=America/New_York:20200129T183000
DTSTAMP:20260423T045504
CREATED:20191211T222217Z
LAST-MODIFIED:20200127T205930Z
UID:7804-1580322600-1580322600@toknc.com
SUMMARY:Board of Aldermen - Briefing
DESCRIPTION:Click HERE to view the agenda.
URL:https://toknc.com/event/board-of-aldermen-briefing-51/
LOCATION:Town Hall\, 134 E Mountain St\, Kernersville\, NC\, 27284\, United States
CATEGORIES:Board of Aldermen - Briefing
END:VEVENT
BEGIN:VEVENT
DTSTART;TZID=America/New_York:20200108T183000
DTEND;TZID=America/New_York:20200108T183000
DTSTAMP:20260423T045504
CREATED:20191211T222216Z
LAST-MODIFIED:20191218T150308Z
UID:7803-1578508200-1578508200@toknc.com
SUMMARY:Board of Aldermen - Briefing
DESCRIPTION:
URL:https://toknc.com/event/board-of-aldermen-briefing-50/
LOCATION:Town Hall\, 134 E Mountain St\, Kernersville\, NC\, 27284\, United States
CATEGORIES:Board of Aldermen - Briefing
END:VEVENT
BEGIN:VEVENT
DTSTART;TZID=America/New_York:20191125T183000
DTEND;TZID=America/New_York:20191125T183000
DTSTAMP:20260423T045504
CREATED:20181211T194633Z
LAST-MODIFIED:20191122T143826Z
UID:5666-1574706600-1574706600@toknc.com
SUMMARY:Board of Aldermen - Briefing
DESCRIPTION:Click HERE to view the agenda.
URL:https://toknc.com/event/board-of-aldermen-briefing-48/
LOCATION:NC
CATEGORIES:Board of Aldermen - Briefing
END:VEVENT
BEGIN:VEVENT
DTSTART;TZID=America/New_York:20191106T183000
DTEND;TZID=America/New_York:20191106T183000
DTSTAMP:20260423T045504
CREATED:20181211T194633Z
LAST-MODIFIED:20181211T194633Z
UID:5665-1573065000-1573065000@toknc.com
SUMMARY:Board of Aldermen - Briefing
DESCRIPTION:
URL:https://toknc.com/event/board-of-aldermen-briefing-47/
LOCATION:NC
CATEGORIES:Board of Aldermen - Briefing
END:VEVENT
BEGIN:VEVENT
DTSTART;TZID=America/New_York:20190925T183000
DTEND;TZID=America/New_York:20190925T183000
DTSTAMP:20260423T045504
CREATED:20181211T194632Z
LAST-MODIFIED:20190923T191410Z
UID:5664-1569436200-1569436200@toknc.com
SUMMARY:Board of Aldermen - Briefing
DESCRIPTION:Click HERE to view the agenda.
URL:https://toknc.com/event/board-of-aldermen-briefing-46/
LOCATION:NC
CATEGORIES:Board of Aldermen - Briefing
END:VEVENT
BEGIN:VEVENT
DTSTART;TZID=America/New_York:20190828T183000
DTEND;TZID=America/New_York:20190828T183000
DTSTAMP:20260423T045504
CREATED:20181211T194632Z
LAST-MODIFIED:20190826T204457Z
UID:5663-1567017000-1567017000@toknc.com
SUMMARY:Board of Aldermen - Briefing
DESCRIPTION:Click HERE to view the agenda.
URL:https://toknc.com/event/board-of-aldermen-briefing-45/
LOCATION:NC
CATEGORIES:Board of Aldermen - Briefing
END:VEVENT
BEGIN:VEVENT
DTSTART;TZID=America/New_York:20190731T183000
DTEND;TZID=America/New_York:20190731T183000
DTSTAMP:20260423T045504
CREATED:20181211T194632Z
LAST-MODIFIED:20190729T131025Z
UID:5662-1564597800-1564597800@toknc.com
SUMMARY:Board of Aldermen - Briefing
DESCRIPTION:Click HERE to view the agenda.
URL:https://toknc.com/event/board-of-aldermen-briefing-44/
LOCATION:NC
CATEGORIES:Board of Aldermen - Briefing
END:VEVENT
BEGIN:VEVENT
DTSTART;TZID=America/New_York:20190619T183000
DTEND;TZID=America/New_York:20190619T183000
DTSTAMP:20260423T045504
CREATED:20181211T194632Z
LAST-MODIFIED:20190617T212533Z
UID:5661-1560969000-1560969000@toknc.com
SUMMARY:Board of Aldermen - Briefing
DESCRIPTION:Click HERE to view the agenda.
URL:https://toknc.com/event/board-of-aldermen-briefing-43/
LOCATION:NC
CATEGORIES:Board of Aldermen - Briefing
END:VEVENT
BEGIN:VEVENT
DTSTART;TZID=America/New_York:20190529T180000
DTEND;TZID=America/New_York:20190529T180000
DTSTAMP:20260423T045504
CREATED:20181211T194631Z
LAST-MODIFIED:20190517T203013Z
UID:5660-1559152800-1559152800@toknc.com
SUMMARY:Board of Aldermen - Briefing
DESCRIPTION:Click HERE to View Agenda. \n 
URL:https://toknc.com/event/board-of-aldermen-briefing-42/
LOCATION:NC
CATEGORIES:Board of Aldermen - Briefing
END:VEVENT
BEGIN:VEVENT
DTSTART;TZID=America/New_York:20190501T183000
DTEND;TZID=America/New_York:20190501T183000
DTSTAMP:20260423T045504
CREATED:20181211T194629Z
LAST-MODIFIED:20181211T194629Z
UID:5659-1556735400-1556735400@toknc.com
SUMMARY:Board of Aldermen - Briefing
DESCRIPTION:
URL:https://toknc.com/event/board-of-aldermen-briefing-41/
LOCATION:NC
CATEGORIES:Board of Aldermen - Briefing
END:VEVENT
BEGIN:VEVENT
DTSTART;TZID=America/New_York:20190327T183000
DTEND;TZID=America/New_York:20190327T183000
DTSTAMP:20260423T045504
CREATED:20181211T194629Z
LAST-MODIFIED:20181211T194629Z
UID:5658-1553711400-1553711400@toknc.com
SUMMARY:Board of Aldermen - Briefing
DESCRIPTION:
URL:https://toknc.com/event/board-of-aldermen-briefing-40/
LOCATION:NC
CATEGORIES:Board of Aldermen - Briefing
END:VEVENT
BEGIN:VEVENT
DTSTART;TZID=America/New_York:20190227T183000
DTEND;TZID=America/New_York:20190227T183000
DTSTAMP:20260423T045504
CREATED:20181211T194629Z
LAST-MODIFIED:20190226T134213Z
UID:5657-1551292200-1551292200@toknc.com
SUMMARY:Board of Aldermen - Briefing
DESCRIPTION:Click HERE for the meeting agenda. \n 
URL:https://toknc.com/event/board-of-aldermen-briefing-39/
LOCATION:NC
CATEGORIES:Board of Aldermen - Briefing
END:VEVENT
BEGIN:VEVENT
DTSTART;TZID=America/New_York:20190130T183000
DTEND;TZID=America/New_York:20190130T183000
DTSTAMP:20260423T045504
CREATED:20181211T194629Z
LAST-MODIFIED:20181211T194629Z
UID:5656-1548873000-1548873000@toknc.com
SUMMARY:Board of Aldermen - Briefing
DESCRIPTION:
URL:https://toknc.com/event/board-of-aldermen-briefing-38/
LOCATION:NC
CATEGORIES:Board of Aldermen - Briefing
END:VEVENT
BEGIN:VEVENT
DTSTART;TZID=America/New_York:20190109T183000
DTEND;TZID=America/New_York:20190109T183000
DTSTAMP:20260423T045504
CREATED:20181211T194629Z
LAST-MODIFIED:20181211T194629Z
UID:5655-1547058600-1547058600@toknc.com
SUMMARY:Board of Aldermen - Briefing
DESCRIPTION:
URL:https://toknc.com/event/board-of-aldermen-briefing-37/
LOCATION:NC
CATEGORIES:Board of Aldermen - Briefing
END:VEVENT
BEGIN:VEVENT
DTSTART;TZID=America/New_York:20181128T183000
DTEND;TZID=America/New_York:20181128T183000
DTSTAMP:20260423T045504
CREATED:20171219T203351Z
LAST-MODIFIED:20171219T203351Z
UID:3688-1543429800-1543429800@toknc.com
SUMMARY:Board of Aldermen - Briefing
DESCRIPTION:
URL:https://toknc.com/event/board-of-aldermen-briefing-36/
LOCATION:NC
CATEGORIES:Board of Aldermen - Briefing
END:VEVENT
BEGIN:VEVENT
DTSTART;TZID=America/New_York:20181107T183000
DTEND;TZID=America/New_York:20181107T183000
DTSTAMP:20260423T045504
CREATED:20171219T203351Z
LAST-MODIFIED:20171219T203351Z
UID:3687-1541615400-1541615400@toknc.com
SUMMARY:Board of Aldermen - Briefing
DESCRIPTION:
URL:https://toknc.com/event/board-of-aldermen-briefing-35/
LOCATION:NC
CATEGORIES:Board of Aldermen - Briefing
END:VEVENT
BEGIN:VEVENT
DTSTART;TZID=America/New_York:20180926T183000
DTEND;TZID=America/New_York:20180926T183000
DTSTAMP:20260423T045504
CREATED:20171219T203350Z
LAST-MODIFIED:20171219T203350Z
UID:3686-1537986600-1537986600@toknc.com
SUMMARY:Board of Aldermen - Briefing
DESCRIPTION:
URL:https://toknc.com/event/board-of-aldermen-briefing-34/
LOCATION:NC
CATEGORIES:Board of Aldermen - Briefing
END:VEVENT
BEGIN:VEVENT
DTSTART;TZID=America/New_York:20180829T183000
DTEND;TZID=America/New_York:20180829T183000
DTSTAMP:20260423T045504
CREATED:20171219T203350Z
LAST-MODIFIED:20171219T203350Z
UID:3685-1535567400-1535567400@toknc.com
SUMMARY:Board of Aldermen - Briefing
DESCRIPTION:
URL:https://toknc.com/event/board-of-aldermen-briefing-33/
LOCATION:NC
CATEGORIES:Board of Aldermen - Briefing
END:VEVENT
BEGIN:VEVENT
DTSTART;TZID=America/New_York:20180801T183000
DTEND;TZID=America/New_York:20180801T183000
DTSTAMP:20260423T045504
CREATED:20171219T203350Z
LAST-MODIFIED:20171219T203350Z
UID:3684-1533148200-1533148200@toknc.com
SUMMARY:Board of Aldermen - Briefing
DESCRIPTION:
URL:https://toknc.com/event/board-of-aldermen-briefing-32/
LOCATION:NC
CATEGORIES:Board of Aldermen - Briefing
END:VEVENT
BEGIN:VEVENT
DTSTART;TZID=America/New_York:20180620T183000
DTEND;TZID=America/New_York:20180620T183000
DTSTAMP:20260423T045504
CREATED:20171219T203350Z
LAST-MODIFIED:20171219T203350Z
UID:3683-1529519400-1529519400@toknc.com
SUMMARY:Board of Aldermen - Briefing
DESCRIPTION:
URL:https://toknc.com/event/board-of-aldermen-briefing-31/
LOCATION:NC
CATEGORIES:Board of Aldermen - Briefing
END:VEVENT
BEGIN:VEVENT
DTSTART;TZID=America/New_York:20180530T163000
DTEND;TZID=America/New_York:20180530T183000
DTSTAMP:20260423T045504
CREATED:20171219T203350Z
LAST-MODIFIED:20180517T150107Z
UID:3682-1527697800-1527705000@toknc.com
SUMMARY:Board of Aldermen - Briefing
DESCRIPTION:
URL:https://toknc.com/event/board-of-aldermen-briefing-30/
LOCATION:NC
CATEGORIES:Board of Aldermen - Briefing
END:VEVENT
BEGIN:VEVENT
DTSTART;TZID=America/New_York:20180425T183000
DTEND;TZID=America/New_York:20180425T183000
DTSTAMP:20260423T045504
CREATED:20171219T203348Z
LAST-MODIFIED:20171219T203348Z
UID:3681-1524681000-1524681000@toknc.com
SUMMARY:Board of Aldermen - Briefing
DESCRIPTION:
URL:https://toknc.com/event/board-of-aldermen-briefing-29/
LOCATION:NC
CATEGORIES:Board of Aldermen - Briefing
END:VEVENT
BEGIN:VEVENT
DTSTART;TZID=America/New_York:20180328T183000
DTEND;TZID=America/New_York:20180328T183000
DTSTAMP:20260423T045504
CREATED:20171219T203348Z
LAST-MODIFIED:20171219T203348Z
UID:3680-1522261800-1522261800@toknc.com
SUMMARY:Board of Aldermen - Briefing
DESCRIPTION:
URL:https://toknc.com/event/board-of-aldermen-briefing-28/
LOCATION:NC
CATEGORIES:Board of Aldermen - Briefing
END:VEVENT
BEGIN:VEVENT
DTSTART;TZID=America/New_York:20180228T183000
DTEND;TZID=America/New_York:20180228T183000
DTSTAMP:20260423T045504
CREATED:20171219T203348Z
LAST-MODIFIED:20171219T203348Z
UID:3679-1519842600-1519842600@toknc.com
SUMMARY:Board of Aldermen - Briefing
DESCRIPTION:
URL:https://toknc.com/event/board-of-aldermen-briefing-27/
LOCATION:NC
CATEGORIES:Board of Aldermen - Briefing
END:VEVENT
BEGIN:VEVENT
DTSTART;TZID=America/New_York:20180131T183000
DTEND;TZID=America/New_York:20180131T183000
DTSTAMP:20260423T045504
CREATED:20171219T203348Z
LAST-MODIFIED:20171219T203348Z
UID:3678-1517423400-1517423400@toknc.com
SUMMARY:Board of Aldermen - Briefing
DESCRIPTION:
URL:https://toknc.com/event/board-of-aldermen-briefing-26/
LOCATION:NC
CATEGORIES:Board of Aldermen - Briefing
END:VEVENT
BEGIN:VEVENT
DTSTART;TZID=America/New_York:20180103T183000
DTEND;TZID=America/New_York:20180103T183000
DTSTAMP:20260423T045504
CREATED:20171219T203348Z
LAST-MODIFIED:20171219T203348Z
UID:3677-1515004200-1515004200@toknc.com
SUMMARY:Board of Aldermen - Briefing
DESCRIPTION:
URL:https://toknc.com/event/board-of-aldermen-briefing-25/
LOCATION:NC
CATEGORIES:Board of Aldermen - Briefing
END:VEVENT
BEGIN:VEVENT
DTSTART;TZID=America/New_York:20171129T183000
DTEND;TZID=America/New_York:20171129T183000
DTSTAMP:20260423T045504
CREATED:20161208T213839Z
LAST-MODIFIED:20161208T213839Z
UID:1181-1511980200-1511980200@toknc.com
SUMMARY:Board of Aldermen - Briefing
DESCRIPTION:
URL:https://toknc.com/event/board-of-aldermen-briefing-24/
LOCATION:NC
CATEGORIES:Board of Aldermen - Briefing
END:VEVENT
BEGIN:VEVENT
DTSTART;TZID=America/New_York:20171108T183000
DTEND;TZID=America/New_York:20171108T183000
DTSTAMP:20260423T045504
CREATED:20161208T213839Z
LAST-MODIFIED:20161208T213839Z
UID:1180-1510165800-1510165800@toknc.com
SUMMARY:Board of Aldermen - Briefing
DESCRIPTION:
URL:https://toknc.com/event/board-of-aldermen-briefing-23/
LOCATION:NC
CATEGORIES:Board of Aldermen - Briefing
END:VEVENT
END:VCALENDAR