BEGIN:VCALENDAR
VERSION:2.0
PRODID:-//Town of Kernersville - ECPv6.15.17.1//NONSGML v1.0//EN
CALSCALE:GREGORIAN
METHOD:PUBLISH
X-ORIGINAL-URL:https://toknc.com
X-WR-CALDESC:Events for Town of Kernersville
REFRESH-INTERVAL;VALUE=DURATION:PT1H
X-Robots-Tag:noindex
X-PUBLISHED-TTL:PT1H
BEGIN:VTIMEZONE
TZID:America/New_York
BEGIN:DAYLIGHT
TZOFFSETFROM:-0500
TZOFFSETTO:-0400
TZNAME:EDT
DTSTART:20150308T070000
END:DAYLIGHT
BEGIN:STANDARD
TZOFFSETFROM:-0400
TZOFFSETTO:-0500
TZNAME:EST
DTSTART:20151101T060000
END:STANDARD
BEGIN:DAYLIGHT
TZOFFSETFROM:-0500
TZOFFSETTO:-0400
TZNAME:EDT
DTSTART:20160313T070000
END:DAYLIGHT
BEGIN:STANDARD
TZOFFSETFROM:-0400
TZOFFSETTO:-0500
TZNAME:EST
DTSTART:20161106T060000
END:STANDARD
BEGIN:DAYLIGHT
TZOFFSETFROM:-0500
TZOFFSETTO:-0400
TZNAME:EDT
DTSTART:20170312T070000
END:DAYLIGHT
BEGIN:STANDARD
TZOFFSETFROM:-0400
TZOFFSETTO:-0500
TZNAME:EST
DTSTART:20171105T060000
END:STANDARD
BEGIN:DAYLIGHT
TZOFFSETFROM:-0500
TZOFFSETTO:-0400
TZNAME:EDT
DTSTART:20180311T070000
END:DAYLIGHT
BEGIN:STANDARD
TZOFFSETFROM:-0400
TZOFFSETTO:-0500
TZNAME:EST
DTSTART:20181104T060000
END:STANDARD
END:VTIMEZONE
BEGIN:VEVENT
DTSTART;TZID=America/New_York:20170927T183000
DTEND;TZID=America/New_York:20170927T183000
DTSTAMP:20260423T095038
CREATED:20161208T213839Z
LAST-MODIFIED:20161208T213839Z
UID:1179-1506537000-1506537000@toknc.com
SUMMARY:Board of Aldermen - Briefing
DESCRIPTION:
URL:https://toknc.com/event/board-of-aldermen-briefing-22/
CATEGORIES:Board of Aldermen - Briefing
END:VEVENT
BEGIN:VEVENT
DTSTART;TZID=America/New_York:20170830T183000
DTEND;TZID=America/New_York:20170830T183000
DTSTAMP:20260423T095038
CREATED:20161208T213838Z
LAST-MODIFIED:20161208T213838Z
UID:1178-1504117800-1504117800@toknc.com
SUMMARY:Board of Aldermen - Briefing
DESCRIPTION:
URL:https://toknc.com/event/board-of-aldermen-briefing-21/
CATEGORIES:Board of Aldermen - Briefing
END:VEVENT
BEGIN:VEVENT
DTSTART;TZID=America/New_York:20170726T183000
DTEND;TZID=America/New_York:20170726T183000
DTSTAMP:20260423T095038
CREATED:20161208T213838Z
LAST-MODIFIED:20161208T213838Z
UID:1177-1501093800-1501093800@toknc.com
SUMMARY:Board of Aldermen - Briefing
DESCRIPTION:
URL:https://toknc.com/event/board-of-aldermen-briefing-20/
CATEGORIES:Board of Aldermen - Briefing
END:VEVENT
BEGIN:VEVENT
DTSTART;TZID=America/New_York:20170621T183000
DTEND;TZID=America/New_York:20170621T183000
DTSTAMP:20260423T095038
CREATED:20161208T213838Z
LAST-MODIFIED:20161208T213838Z
UID:1176-1498069800-1498069800@toknc.com
SUMMARY:Board of Aldermen - Briefing
DESCRIPTION:
URL:https://toknc.com/event/board-of-aldermen-briefing-19/
CATEGORIES:Board of Aldermen - Briefing
END:VEVENT
BEGIN:VEVENT
DTSTART;TZID=America/New_York:20170531T183000
DTEND;TZID=America/New_York:20170531T183000
DTSTAMP:20260423T095038
CREATED:20161208T213838Z
LAST-MODIFIED:20161208T213838Z
UID:1175-1496255400-1496255400@toknc.com
SUMMARY:Board of Aldermen - Briefing
DESCRIPTION:
URL:https://toknc.com/event/board-of-aldermen-briefing-18/
CATEGORIES:Board of Aldermen - Briefing
END:VEVENT
BEGIN:VEVENT
DTSTART;TZID=America/New_York:20170426T183000
DTEND;TZID=America/New_York:20170426T183000
DTSTAMP:20260423T095038
CREATED:20161208T213831Z
LAST-MODIFIED:20161208T213831Z
UID:1174-1493231400-1493231400@toknc.com
SUMMARY:Board of Aldermen - Briefing
DESCRIPTION:
URL:https://toknc.com/event/board-of-aldermen-briefing-17/
CATEGORIES:Board of Aldermen - Briefing
END:VEVENT
BEGIN:VEVENT
DTSTART;TZID=America/New_York:20170329T183000
DTEND;TZID=America/New_York:20170329T183000
DTSTAMP:20260423T095038
CREATED:20161208T213831Z
LAST-MODIFIED:20161208T213831Z
UID:1173-1490812200-1490812200@toknc.com
SUMMARY:Board of Aldermen - Briefing
DESCRIPTION:
URL:https://toknc.com/event/board-of-aldermen-briefing-16/
CATEGORIES:Board of Aldermen - Briefing
END:VEVENT
BEGIN:VEVENT
DTSTART;TZID=America/New_York:20170301T183000
DTEND;TZID=America/New_York:20170301T183000
DTSTAMP:20260423T095038
CREATED:20161208T213831Z
LAST-MODIFIED:20161208T213831Z
UID:1172-1488393000-1488393000@toknc.com
SUMMARY:Board of Aldermen - Briefing
DESCRIPTION:
URL:https://toknc.com/event/board-of-aldermen-briefing-15/
CATEGORIES:Board of Aldermen - Briefing
END:VEVENT
BEGIN:VEVENT
DTSTART;TZID=America/New_York:20170201T183000
DTEND;TZID=America/New_York:20170201T183000
DTSTAMP:20260423T095038
CREATED:20161208T213831Z
LAST-MODIFIED:20161208T213831Z
UID:1171-1485973800-1485973800@toknc.com
SUMMARY:Board of Aldermen - Briefing
DESCRIPTION:
URL:https://toknc.com/event/board-of-aldermen-briefing-14/
CATEGORIES:Board of Aldermen - Briefing
END:VEVENT
BEGIN:VEVENT
DTSTART;TZID=America/New_York:20170104T183000
DTEND;TZID=America/New_York:20170104T183000
DTSTAMP:20260423T095038
CREATED:20161208T213831Z
LAST-MODIFIED:20161208T213831Z
UID:1170-1483554600-1483554600@toknc.com
SUMMARY:Board of Aldermen - Briefing
DESCRIPTION:
URL:https://toknc.com/event/board-of-aldermen-briefing-13/
CATEGORIES:Board of Aldermen - Briefing
END:VEVENT
BEGIN:VEVENT
DTSTART;TZID=America/New_York:20161130T183000
DTEND;TZID=America/New_York:20161130T183000
DTSTAMP:20260423T095038
CREATED:20160723T003515Z
LAST-MODIFIED:20160723T003515Z
UID:90-1480530600-1480530600@toknc.com
SUMMARY:Board of Aldermen - Briefing
DESCRIPTION:
URL:https://toknc.com/event/board-of-aldermen-briefing-12/
CATEGORIES:Board of Aldermen - Briefing
END:VEVENT
BEGIN:VEVENT
DTSTART;TZID=America/New_York:20161026T183000
DTEND;TZID=America/New_York:20161026T183000
DTSTAMP:20260423T095038
CREATED:20160723T003513Z
LAST-MODIFIED:20160723T003513Z
UID:89-1477506600-1477506600@toknc.com
SUMMARY:Board of Aldermen - Briefing
DESCRIPTION:
URL:https://toknc.com/event/board-of-aldermen-briefing-11/
CATEGORIES:Board of Aldermen - Briefing
END:VEVENT
BEGIN:VEVENT
DTSTART;TZID=America/New_York:20160928T183000
DTEND;TZID=America/New_York:20160928T183000
DTSTAMP:20260423T095038
CREATED:20160723T003511Z
LAST-MODIFIED:20160723T003511Z
UID:88-1475087400-1475087400@toknc.com
SUMMARY:Board of Aldermen - Briefing
DESCRIPTION:
URL:https://toknc.com/event/board-of-aldermen-briefing-10/
CATEGORIES:Board of Aldermen - Briefing
END:VEVENT
BEGIN:VEVENT
DTSTART;TZID=America/New_York:20160831T183000
DTEND;TZID=America/New_York:20160831T183000
DTSTAMP:20260423T095038
CREATED:20160723T003509Z
LAST-MODIFIED:20160723T003509Z
UID:87-1472668200-1472668200@toknc.com
SUMMARY:Board of Aldermen - Briefing
DESCRIPTION:
URL:https://toknc.com/event/board-of-aldermen-briefing-9/
CATEGORIES:Board of Aldermen - Briefing
END:VEVENT
BEGIN:VEVENT
DTSTART;TZID=America/New_York:20160727T183000
DTEND;TZID=America/New_York:20160727T183000
DTSTAMP:20260423T095038
CREATED:20160723T003507Z
LAST-MODIFIED:20160723T003507Z
UID:86-1469644200-1469644200@toknc.com
SUMMARY:Board of Aldermen - Briefing
DESCRIPTION:
URL:https://toknc.com/event/board-of-aldermen-briefing-8/
CATEGORIES:Board of Aldermen - Briefing
END:VEVENT
BEGIN:VEVENT
DTSTART;TZID=America/New_York:20160622T183000
DTEND;TZID=America/New_York:20160622T183000
DTSTAMP:20260423T095038
CREATED:20160723T003506Z
LAST-MODIFIED:20160723T003506Z
UID:85-1466620200-1466620200@toknc.com
SUMMARY:Board of Aldermen - Briefing
DESCRIPTION:
URL:https://toknc.com/event/board-of-aldermen-briefing-7/
CATEGORIES:Board of Aldermen - Briefing
END:VEVENT
BEGIN:VEVENT
DTSTART;TZID=America/New_York:20160601T183000
DTEND;TZID=America/New_York:20160601T183000
DTSTAMP:20260423T095038
CREATED:20160723T003504Z
LAST-MODIFIED:20160723T003504Z
UID:84-1464805800-1464805800@toknc.com
SUMMARY:Board of Aldermen - Briefing
DESCRIPTION:
URL:https://toknc.com/event/board-of-aldermen-briefing-6/
CATEGORIES:Board of Aldermen - Briefing
END:VEVENT
BEGIN:VEVENT
DTSTART;TZID=America/New_York:20160427T183000
DTEND;TZID=America/New_York:20160427T183000
DTSTAMP:20260423T095038
CREATED:20160723T003503Z
LAST-MODIFIED:20160723T003503Z
UID:83-1461781800-1461781800@toknc.com
SUMMARY:Board of Aldermen - Briefing
DESCRIPTION:
URL:https://toknc.com/event/board-of-aldermen-briefing-5/
CATEGORIES:Board of Aldermen - Briefing
END:VEVENT
BEGIN:VEVENT
DTSTART;TZID=America/New_York:20160330T183000
DTEND;TZID=America/New_York:20160330T183000
DTSTAMP:20260423T095038
CREATED:20160723T003501Z
LAST-MODIFIED:20160723T003501Z
UID:82-1459362600-1459362600@toknc.com
SUMMARY:Board of Aldermen - Briefing
DESCRIPTION:
URL:https://toknc.com/event/board-of-aldermen-briefing-4/
CATEGORIES:Board of Aldermen - Briefing
END:VEVENT
BEGIN:VEVENT
DTSTART;TZID=America/New_York:20160224T183000
DTEND;TZID=America/New_York:20160224T183000
DTSTAMP:20260423T095038
CREATED:20160723T003459Z
LAST-MODIFIED:20160723T003459Z
UID:81-1456338600-1456338600@toknc.com
SUMMARY:Board of Aldermen - Briefing
DESCRIPTION:
URL:https://toknc.com/event/board-of-aldermen-briefing-3/
CATEGORIES:Board of Aldermen - Briefing
END:VEVENT
BEGIN:VEVENT
DTSTART;TZID=America/New_York:20160127T183000
DTEND;TZID=America/New_York:20160127T183000
DTSTAMP:20260423T095038
CREATED:20160723T003457Z
LAST-MODIFIED:20160723T003457Z
UID:80-1453919400-1453919400@toknc.com
SUMMARY:Board of Aldermen - Briefing
DESCRIPTION:
URL:https://toknc.com/event/board-of-aldermen-briefing-2/
CATEGORIES:Board of Aldermen - Briefing
END:VEVENT
BEGIN:VEVENT
DTSTART;TZID=America/New_York:20160106T183000
DTEND;TZID=America/New_York:20160106T183000
DTSTAMP:20260423T095038
CREATED:20160723T003455Z
LAST-MODIFIED:20160723T003455Z
UID:79-1452105000-1452105000@toknc.com
SUMMARY:Board of Aldermen - Briefing
DESCRIPTION:
URL:https://toknc.com/event/board-of-aldermen-briefing/
CATEGORIES:Board of Aldermen - Briefing
END:VEVENT
END:VCALENDAR