BEGIN:VCALENDAR
VERSION:2.0
PRODID:-//Town of Kernersville - ECPv6.15.17.1//NONSGML v1.0//EN
CALSCALE:GREGORIAN
METHOD:PUBLISH
X-ORIGINAL-URL:https://toknc.com
X-WR-CALDESC:Events for Town of Kernersville
REFRESH-INTERVAL;VALUE=DURATION:PT1H
X-Robots-Tag:noindex
X-PUBLISHED-TTL:PT1H
BEGIN:VTIMEZONE
TZID:America/New_York
BEGIN:DAYLIGHT
TZOFFSETFROM:-0500
TZOFFSETTO:-0400
TZNAME:EDT
DTSTART:20150308T070000
END:DAYLIGHT
BEGIN:STANDARD
TZOFFSETFROM:-0400
TZOFFSETTO:-0500
TZNAME:EST
DTSTART:20151101T060000
END:STANDARD
BEGIN:DAYLIGHT
TZOFFSETFROM:-0500
TZOFFSETTO:-0400
TZNAME:EDT
DTSTART:20160313T070000
END:DAYLIGHT
BEGIN:STANDARD
TZOFFSETFROM:-0400
TZOFFSETTO:-0500
TZNAME:EST
DTSTART:20161106T060000
END:STANDARD
BEGIN:DAYLIGHT
TZOFFSETFROM:-0500
TZOFFSETTO:-0400
TZNAME:EDT
DTSTART:20170312T070000
END:DAYLIGHT
BEGIN:STANDARD
TZOFFSETFROM:-0400
TZOFFSETTO:-0500
TZNAME:EST
DTSTART:20171105T060000
END:STANDARD
BEGIN:DAYLIGHT
TZOFFSETFROM:-0500
TZOFFSETTO:-0400
TZNAME:EDT
DTSTART:20180311T070000
END:DAYLIGHT
BEGIN:STANDARD
TZOFFSETFROM:-0400
TZOFFSETTO:-0500
TZNAME:EST
DTSTART:20181104T060000
END:STANDARD
BEGIN:DAYLIGHT
TZOFFSETFROM:-0500
TZOFFSETTO:-0400
TZNAME:EDT
DTSTART:20190310T070000
END:DAYLIGHT
BEGIN:STANDARD
TZOFFSETFROM:-0400
TZOFFSETTO:-0500
TZNAME:EST
DTSTART:20191103T060000
END:STANDARD
BEGIN:DAYLIGHT
TZOFFSETFROM:-0500
TZOFFSETTO:-0400
TZNAME:EDT
DTSTART:20200308T070000
END:DAYLIGHT
BEGIN:STANDARD
TZOFFSETFROM:-0400
TZOFFSETTO:-0500
TZNAME:EST
DTSTART:20201101T060000
END:STANDARD
END:VTIMEZONE
BEGIN:VEVENT
DTSTART;TZID=America/New_York:20190218T120000
DTEND;TZID=America/New_York:20190218T120000
DTSTAMP:20260423T165410
CREATED:20181211T194640Z
LAST-MODIFIED:20181211T194640Z
UID:5693-1550491200-1550491200@toknc.com
SUMMARY:Recreation Advisory Board
DESCRIPTION:
URL:https://toknc.com/event/recreation-advisory-board-38/
CATEGORIES:Recreation Advisory Board
END:VEVENT
BEGIN:VEVENT
DTSTART;TZID=America/New_York:20190128T120000
DTEND;TZID=America/New_York:20190128T120000
DTSTAMP:20260423T165410
CREATED:20181211T194640Z
LAST-MODIFIED:20181211T194640Z
UID:5692-1548676800-1548676800@toknc.com
SUMMARY:Recreation Advisory Board
DESCRIPTION:
URL:https://toknc.com/event/recreation-advisory-board-37/
CATEGORIES:Recreation Advisory Board
END:VEVENT
BEGIN:VEVENT
DTSTART;TZID=America/New_York:20181217T120000
DTEND;TZID=America/New_York:20181217T120000
DTSTAMP:20260423T165410
CREATED:20171219T203407Z
LAST-MODIFIED:20171219T203407Z
UID:3748-1545048000-1545048000@toknc.com
SUMMARY:Recreation Advisory Board
DESCRIPTION:
URL:https://toknc.com/event/recreation-advisory-board-36/
CATEGORIES:Recreation Advisory Board
END:VEVENT
BEGIN:VEVENT
DTSTART;TZID=America/New_York:20181119T120000
DTEND;TZID=America/New_York:20181119T120000
DTSTAMP:20260423T165410
CREATED:20171219T203407Z
LAST-MODIFIED:20171219T203407Z
UID:3747-1542628800-1542628800@toknc.com
SUMMARY:Recreation Advisory Board
DESCRIPTION:
URL:https://toknc.com/event/recreation-advisory-board-35/
CATEGORIES:Recreation Advisory Board
END:VEVENT
BEGIN:VEVENT
DTSTART;TZID=America/New_York:20181015T120000
DTEND;TZID=America/New_York:20181015T120000
DTSTAMP:20260423T165410
CREATED:20171219T203406Z
LAST-MODIFIED:20171219T203406Z
UID:3746-1539604800-1539604800@toknc.com
SUMMARY:Recreation Advisory Board
DESCRIPTION:
URL:https://toknc.com/event/recreation-advisory-board-34/
CATEGORIES:Recreation Advisory Board
END:VEVENT
BEGIN:VEVENT
DTSTART;TZID=America/New_York:20180917T120000
DTEND;TZID=America/New_York:20180917T120000
DTSTAMP:20260423T165410
CREATED:20171219T203406Z
LAST-MODIFIED:20171219T203406Z
UID:3745-1537185600-1537185600@toknc.com
SUMMARY:Recreation Advisory Board
DESCRIPTION:
URL:https://toknc.com/event/recreation-advisory-board-33/
CATEGORIES:Recreation Advisory Board
END:VEVENT
BEGIN:VEVENT
DTSTART;TZID=America/New_York:20180820T120000
DTEND;TZID=America/New_York:20180820T120000
DTSTAMP:20260423T165410
CREATED:20171219T203406Z
LAST-MODIFIED:20171219T203406Z
UID:3744-1534766400-1534766400@toknc.com
SUMMARY:Recreation Advisory Board
DESCRIPTION:
URL:https://toknc.com/event/recreation-advisory-board-32/
CATEGORIES:Recreation Advisory Board
END:VEVENT
BEGIN:VEVENT
DTSTART;TZID=America/New_York:20180716T120000
DTEND;TZID=America/New_York:20180716T120000
DTSTAMP:20260423T165410
CREATED:20171219T203406Z
LAST-MODIFIED:20171219T203406Z
UID:3743-1531742400-1531742400@toknc.com
SUMMARY:Recreation Advisory Board
DESCRIPTION:
URL:https://toknc.com/event/recreation-advisory-board-31/
CATEGORIES:Recreation Advisory Board
END:VEVENT
BEGIN:VEVENT
DTSTART;TZID=America/New_York:20180618T120000
DTEND;TZID=America/New_York:20180618T120000
DTSTAMP:20260423T165410
CREATED:20171219T203405Z
LAST-MODIFIED:20171219T203405Z
UID:3742-1529323200-1529323200@toknc.com
SUMMARY:Recreation Advisory Board
DESCRIPTION:
URL:https://toknc.com/event/recreation-advisory-board-30/
CATEGORIES:Recreation Advisory Board
END:VEVENT
BEGIN:VEVENT
DTSTART;TZID=America/New_York:20180521T120000
DTEND;TZID=America/New_York:20180521T120000
DTSTAMP:20260423T165410
CREATED:20171219T203405Z
LAST-MODIFIED:20171219T203405Z
UID:3741-1526904000-1526904000@toknc.com
SUMMARY:Recreation Advisory Board
DESCRIPTION:
URL:https://toknc.com/event/recreation-advisory-board-29/
CATEGORIES:Recreation Advisory Board
END:VEVENT
BEGIN:VEVENT
DTSTART;TZID=America/New_York:20180416T120000
DTEND;TZID=America/New_York:20180416T120000
DTSTAMP:20260423T165410
CREATED:20171219T203405Z
LAST-MODIFIED:20171219T203405Z
UID:3740-1523880000-1523880000@toknc.com
SUMMARY:Recreation Advisory Board
DESCRIPTION:
URL:https://toknc.com/event/recreation-advisory-board-28/
CATEGORIES:Recreation Advisory Board
END:VEVENT
BEGIN:VEVENT
DTSTART;TZID=America/New_York:20180319T120000
DTEND;TZID=America/New_York:20180319T120000
DTSTAMP:20260423T165410
CREATED:20171219T203404Z
LAST-MODIFIED:20171219T203404Z
UID:3739-1521460800-1521460800@toknc.com
SUMMARY:Recreation Advisory Board
DESCRIPTION:
URL:https://toknc.com/event/recreation-advisory-board-27/
CATEGORIES:Recreation Advisory Board
END:VEVENT
BEGIN:VEVENT
DTSTART;TZID=America/New_York:20180219T120000
DTEND;TZID=America/New_York:20180219T120000
DTSTAMP:20260423T165410
CREATED:20171219T203404Z
LAST-MODIFIED:20171219T203404Z
UID:3738-1519041600-1519041600@toknc.com
SUMMARY:Recreation Advisory Board
DESCRIPTION:
URL:https://toknc.com/event/recreation-advisory-board-26/
CATEGORIES:Recreation Advisory Board
END:VEVENT
BEGIN:VEVENT
DTSTART;TZID=America/New_York:20180115T120000
DTEND;TZID=America/New_York:20180115T120000
DTSTAMP:20260423T165410
CREATED:20171219T203404Z
LAST-MODIFIED:20171219T203404Z
UID:3737-1516017600-1516017600@toknc.com
SUMMARY:Recreation Advisory Board
DESCRIPTION:
URL:https://toknc.com/event/recreation-advisory-board-25/
CATEGORIES:Recreation Advisory Board
END:VEVENT
BEGIN:VEVENT
DTSTART;TZID=America/New_York:20171218T120000
DTEND;TZID=America/New_York:20171218T120000
DTSTAMP:20260423T165410
CREATED:20161208T213850Z
LAST-MODIFIED:20161208T213850Z
UID:1241-1513598400-1513598400@toknc.com
SUMMARY:Recreation Advisory Board
DESCRIPTION:
URL:https://toknc.com/event/recreation-advisory-board-24/
CATEGORIES:Recreation Advisory Board
END:VEVENT
BEGIN:VEVENT
DTSTART;TZID=America/New_York:20171120T120000
DTEND;TZID=America/New_York:20171120T120000
DTSTAMP:20260423T165410
CREATED:20161208T213850Z
LAST-MODIFIED:20161208T213850Z
UID:1240-1511179200-1511179200@toknc.com
SUMMARY:Recreation Advisory Board
DESCRIPTION:
URL:https://toknc.com/event/recreation-advisory-board-23/
CATEGORIES:Recreation Advisory Board
END:VEVENT
BEGIN:VEVENT
DTSTART;TZID=America/New_York:20171016T120000
DTEND;TZID=America/New_York:20171016T120000
DTSTAMP:20260423T165410
CREATED:20161208T213849Z
LAST-MODIFIED:20161208T213849Z
UID:1239-1508155200-1508155200@toknc.com
SUMMARY:Recreation Advisory Board
DESCRIPTION:
URL:https://toknc.com/event/recreation-advisory-board-22/
CATEGORIES:Recreation Advisory Board
END:VEVENT
BEGIN:VEVENT
DTSTART;TZID=America/New_York:20170918T120000
DTEND;TZID=America/New_York:20170918T120000
DTSTAMP:20260423T165410
CREATED:20161208T213849Z
LAST-MODIFIED:20161208T213849Z
UID:1238-1505736000-1505736000@toknc.com
SUMMARY:Recreation Advisory Board
DESCRIPTION:
URL:https://toknc.com/event/recreation-advisory-board-21/
CATEGORIES:Recreation Advisory Board
END:VEVENT
BEGIN:VEVENT
DTSTART;TZID=America/New_York:20170821T120000
DTEND;TZID=America/New_York:20170821T120000
DTSTAMP:20260423T165410
CREATED:20161208T213849Z
LAST-MODIFIED:20161208T213849Z
UID:1237-1503316800-1503316800@toknc.com
SUMMARY:Recreation Advisory Board
DESCRIPTION:
URL:https://toknc.com/event/recreation-advisory-board-20/
CATEGORIES:Recreation Advisory Board
END:VEVENT
BEGIN:VEVENT
DTSTART;TZID=America/New_York:20170717T120000
DTEND;TZID=America/New_York:20170717T120000
DTSTAMP:20260423T165410
CREATED:20161208T213849Z
LAST-MODIFIED:20161208T213849Z
UID:1236-1500292800-1500292800@toknc.com
SUMMARY:Recreation Advisory Board
DESCRIPTION:
URL:https://toknc.com/event/recreation-advisory-board-19/
CATEGORIES:Recreation Advisory Board
END:VEVENT
BEGIN:VEVENT
DTSTART;TZID=America/New_York:20170619T120000
DTEND;TZID=America/New_York:20170619T120000
DTSTAMP:20260423T165410
CREATED:20161208T213849Z
LAST-MODIFIED:20161208T213849Z
UID:1235-1497873600-1497873600@toknc.com
SUMMARY:Recreation Advisory Board
DESCRIPTION:
URL:https://toknc.com/event/recreation-advisory-board-18/
CATEGORIES:Recreation Advisory Board
END:VEVENT
BEGIN:VEVENT
DTSTART;TZID=America/New_York:20170515T120000
DTEND;TZID=America/New_York:20170515T120000
DTSTAMP:20260423T165410
CREATED:20161208T213848Z
LAST-MODIFIED:20161208T213848Z
UID:1234-1494849600-1494849600@toknc.com
SUMMARY:Recreation Advisory Board
DESCRIPTION:
URL:https://toknc.com/event/recreation-advisory-board-17/
CATEGORIES:Recreation Advisory Board
END:VEVENT
BEGIN:VEVENT
DTSTART;TZID=America/New_York:20170417T120000
DTEND;TZID=America/New_York:20170417T120000
DTSTAMP:20260423T165410
CREATED:20161208T213848Z
LAST-MODIFIED:20161208T213848Z
UID:1233-1492430400-1492430400@toknc.com
SUMMARY:Recreation Advisory Board
DESCRIPTION:
URL:https://toknc.com/event/recreation-advisory-board-16/
CATEGORIES:Recreation Advisory Board
END:VEVENT
BEGIN:VEVENT
DTSTART;TZID=America/New_York:20170320T120000
DTEND;TZID=America/New_York:20170320T120000
DTSTAMP:20260423T165410
CREATED:20161208T213848Z
LAST-MODIFIED:20161208T213848Z
UID:1232-1490011200-1490011200@toknc.com
SUMMARY:Recreation Advisory Board
DESCRIPTION:
URL:https://toknc.com/event/recreation-advisory-board-15/
CATEGORIES:Recreation Advisory Board
END:VEVENT
BEGIN:VEVENT
DTSTART;TZID=America/New_York:20170220T120000
DTEND;TZID=America/New_York:20170220T120000
DTSTAMP:20260423T165410
CREATED:20161208T213848Z
LAST-MODIFIED:20161208T213848Z
UID:1231-1487592000-1487592000@toknc.com
SUMMARY:Recreation Advisory Board
DESCRIPTION:
URL:https://toknc.com/event/recreation-advisory-board-14/
CATEGORIES:Recreation Advisory Board
END:VEVENT
BEGIN:VEVENT
DTSTART;TZID=America/New_York:20170116T120000
DTEND;TZID=America/New_York:20170116T120000
DTSTAMP:20260423T165410
CREATED:20161208T213848Z
LAST-MODIFIED:20161208T213848Z
UID:1230-1484568000-1484568000@toknc.com
SUMMARY:Recreation Advisory Board
DESCRIPTION:
URL:https://toknc.com/event/recreation-advisory-board-13/
CATEGORIES:Recreation Advisory Board
END:VEVENT
BEGIN:VEVENT
DTSTART;TZID=America/New_York:20161219T120000
DTEND;TZID=America/New_York:20161219T130000
DTSTAMP:20260423T165410
CREATED:20160723T003745Z
LAST-MODIFIED:20160723T003745Z
UID:150-1482148800-1482152400@toknc.com
SUMMARY:Recreation Advisory Board
DESCRIPTION:
URL:https://toknc.com/event/recreation-advisory-board-12/
CATEGORIES:Recreation Advisory Board
END:VEVENT
BEGIN:VEVENT
DTSTART;TZID=America/New_York:20161121T120000
DTEND;TZID=America/New_York:20161121T130000
DTSTAMP:20260423T165410
CREATED:20160723T003744Z
LAST-MODIFIED:20160723T003744Z
UID:149-1479729600-1479733200@toknc.com
SUMMARY:Recreation Advisory Board
DESCRIPTION:
URL:https://toknc.com/event/recreation-advisory-board-11/
CATEGORIES:Recreation Advisory Board
END:VEVENT
BEGIN:VEVENT
DTSTART;TZID=America/New_York:20161017T120000
DTEND;TZID=America/New_York:20161017T130000
DTSTAMP:20260423T165410
CREATED:20160723T003742Z
LAST-MODIFIED:20160723T003742Z
UID:148-1476705600-1476709200@toknc.com
SUMMARY:Recreation Advisory Board
DESCRIPTION:
URL:https://toknc.com/event/recreation-advisory-board-10/
CATEGORIES:Recreation Advisory Board
END:VEVENT
BEGIN:VEVENT
DTSTART;TZID=America/New_York:20160919T120000
DTEND;TZID=America/New_York:20160919T130000
DTSTAMP:20260423T165410
CREATED:20160723T003740Z
LAST-MODIFIED:20160723T003740Z
UID:147-1474286400-1474290000@toknc.com
SUMMARY:Recreation Advisory Board
DESCRIPTION:
URL:https://toknc.com/event/recreation-advisory-board-9/
CATEGORIES:Recreation Advisory Board
END:VEVENT
END:VCALENDAR