BEGIN:VCALENDAR
VERSION:2.0
PRODID:-//Town of Kernersville - ECPv6.15.17.1//NONSGML v1.0//EN
CALSCALE:GREGORIAN
METHOD:PUBLISH
X-ORIGINAL-URL:https://toknc.com
X-WR-CALDESC:Events for Town of Kernersville
REFRESH-INTERVAL;VALUE=DURATION:PT1H
X-Robots-Tag:noindex
X-PUBLISHED-TTL:PT1H
BEGIN:VTIMEZONE
TZID:America/New_York
BEGIN:DAYLIGHT
TZOFFSETFROM:-0500
TZOFFSETTO:-0400
TZNAME:EDT
DTSTART:20150308T070000
END:DAYLIGHT
BEGIN:STANDARD
TZOFFSETFROM:-0400
TZOFFSETTO:-0500
TZNAME:EST
DTSTART:20151101T060000
END:STANDARD
BEGIN:DAYLIGHT
TZOFFSETFROM:-0500
TZOFFSETTO:-0400
TZNAME:EDT
DTSTART:20160313T070000
END:DAYLIGHT
BEGIN:STANDARD
TZOFFSETFROM:-0400
TZOFFSETTO:-0500
TZNAME:EST
DTSTART:20161106T060000
END:STANDARD
BEGIN:DAYLIGHT
TZOFFSETFROM:-0500
TZOFFSETTO:-0400
TZNAME:EDT
DTSTART:20170312T070000
END:DAYLIGHT
BEGIN:STANDARD
TZOFFSETFROM:-0400
TZOFFSETTO:-0500
TZNAME:EST
DTSTART:20171105T060000
END:STANDARD
END:VTIMEZONE
BEGIN:VEVENT
DTSTART;TZID=America/New_York:20160815T120000
DTEND;TZID=America/New_York:20160815T130000
DTSTAMP:20260423T214522
CREATED:20160723T003739Z
LAST-MODIFIED:20160723T003739Z
UID:146-1471262400-1471266000@toknc.com
SUMMARY:Recreation Advisory Board
DESCRIPTION:
URL:https://toknc.com/event/recreation-advisory-board-8/
CATEGORIES:Recreation Advisory Board
END:VEVENT
BEGIN:VEVENT
DTSTART;TZID=America/New_York:20160718T120000
DTEND;TZID=America/New_York:20160718T130000
DTSTAMP:20260423T214522
CREATED:20160723T003737Z
LAST-MODIFIED:20160723T003737Z
UID:145-1468843200-1468846800@toknc.com
SUMMARY:Recreation Advisory Board
DESCRIPTION:
URL:https://toknc.com/event/recreation-advisory-board-7/
CATEGORIES:Recreation Advisory Board
END:VEVENT
BEGIN:VEVENT
DTSTART;TZID=America/New_York:20160620T120000
DTEND;TZID=America/New_York:20160620T130000
DTSTAMP:20260423T214522
CREATED:20160723T003735Z
LAST-MODIFIED:20160723T003735Z
UID:144-1466424000-1466427600@toknc.com
SUMMARY:Recreation Advisory Board
DESCRIPTION:
URL:https://toknc.com/event/recreation-advisory-board-6/
CATEGORIES:Recreation Advisory Board
END:VEVENT
BEGIN:VEVENT
DTSTART;TZID=America/New_York:20160516T080000
DTEND;TZID=America/New_York:20160516T090000
DTSTAMP:20260423T214522
CREATED:20160723T003733Z
LAST-MODIFIED:20160723T003733Z
UID:143-1463385600-1463389200@toknc.com
SUMMARY:Recreation Advisory Board
DESCRIPTION:
URL:https://toknc.com/event/recreation-advisory-board-5/
CATEGORIES:Recreation Advisory Board
END:VEVENT
BEGIN:VEVENT
DTSTART;TZID=America/New_York:20160418T080000
DTEND;TZID=America/New_York:20160418T090000
DTSTAMP:20260423T214522
CREATED:20160723T003731Z
LAST-MODIFIED:20160723T003731Z
UID:142-1460966400-1460970000@toknc.com
SUMMARY:Recreation Advisory Board
DESCRIPTION:
URL:https://toknc.com/event/recreation-advisory-board-4/
CATEGORIES:Recreation Advisory Board
END:VEVENT
BEGIN:VEVENT
DTSTART;TZID=America/New_York:20160321T080000
DTEND;TZID=America/New_York:20160321T090000
DTSTAMP:20260423T214522
CREATED:20160723T003729Z
LAST-MODIFIED:20160723T003729Z
UID:141-1458547200-1458550800@toknc.com
SUMMARY:Recreation Advisory Board
DESCRIPTION:
URL:https://toknc.com/event/recreation-advisory-board-3/
CATEGORIES:Recreation Advisory Board
END:VEVENT
BEGIN:VEVENT
DTSTART;TZID=America/New_York:20160215T070000
DTEND;TZID=America/New_York:20160215T080000
DTSTAMP:20260423T214522
CREATED:20160723T003727Z
LAST-MODIFIED:20160723T003727Z
UID:140-1455519600-1455523200@toknc.com
SUMMARY:Recreation Advisory Board
DESCRIPTION:
URL:https://toknc.com/event/recreation-advisory-board-2/
CATEGORIES:Recreation Advisory Board
END:VEVENT
BEGIN:VEVENT
DTSTART;TZID=America/New_York:20160118T070000
DTEND;TZID=America/New_York:20160118T080000
DTSTAMP:20260423T214522
CREATED:20160723T003725Z
LAST-MODIFIED:20160723T003725Z
UID:139-1453100400-1453104000@toknc.com
SUMMARY:Recreation Advisory Board
DESCRIPTION:
URL:https://toknc.com/event/recreation-advisory-board/
CATEGORIES:Recreation Advisory Board
END:VEVENT
END:VCALENDAR