BEGIN:VCALENDAR
VERSION:2.0
PRODID:-//Town of Kernersville - ECPv6.15.17.1//NONSGML v1.0//EN
CALSCALE:GREGORIAN
METHOD:PUBLISH
X-ORIGINAL-URL:https://toknc.com
X-WR-CALDESC:Events for Town of Kernersville
REFRESH-INTERVAL;VALUE=DURATION:PT1H
X-Robots-Tag:noindex
X-PUBLISHED-TTL:PT1H
BEGIN:VTIMEZONE
TZID:America/New_York
BEGIN:DAYLIGHT
TZOFFSETFROM:-0500
TZOFFSETTO:-0400
TZNAME:EDT
DTSTART:20210314T070000
END:DAYLIGHT
BEGIN:STANDARD
TZOFFSETFROM:-0400
TZOFFSETTO:-0500
TZNAME:EST
DTSTART:20211107T060000
END:STANDARD
BEGIN:DAYLIGHT
TZOFFSETFROM:-0500
TZOFFSETTO:-0400
TZNAME:EDT
DTSTART:20220313T070000
END:DAYLIGHT
BEGIN:STANDARD
TZOFFSETFROM:-0400
TZOFFSETTO:-0500
TZNAME:EST
DTSTART:20221106T060000
END:STANDARD
BEGIN:DAYLIGHT
TZOFFSETFROM:-0500
TZOFFSETTO:-0400
TZNAME:EDT
DTSTART:20230312T070000
END:DAYLIGHT
BEGIN:STANDARD
TZOFFSETFROM:-0400
TZOFFSETTO:-0500
TZNAME:EST
DTSTART:20231105T060000
END:STANDARD
BEGIN:DAYLIGHT
TZOFFSETFROM:-0500
TZOFFSETTO:-0400
TZNAME:EDT
DTSTART:20240310T070000
END:DAYLIGHT
BEGIN:STANDARD
TZOFFSETFROM:-0400
TZOFFSETTO:-0500
TZNAME:EST
DTSTART:20241103T060000
END:STANDARD
BEGIN:DAYLIGHT
TZOFFSETFROM:-0500
TZOFFSETTO:-0400
TZNAME:EDT
DTSTART:20250309T070000
END:DAYLIGHT
BEGIN:STANDARD
TZOFFSETFROM:-0400
TZOFFSETTO:-0500
TZNAME:EST
DTSTART:20251102T060000
END:STANDARD
END:VTIMEZONE
BEGIN:VEVENT
DTSTART;TZID=America/New_York:20240819T120000
DTEND;TZID=America/New_York:20240819T120000
DTSTAMP:20260423T045454
CREATED:20231227T160933Z
LAST-MODIFIED:20231227T160933Z
UID:15610-1724068800-1724068800@toknc.com
SUMMARY:Recreation Advisory Board
DESCRIPTION:
URL:https://toknc.com/event/recreation-advisory-board-107/
LOCATION:Town Hall\, 134 E Mountain St\, Kernersville\, NC\, 27284\, United States
CATEGORIES:Recreation Advisory Board
END:VEVENT
BEGIN:VEVENT
DTSTART;TZID=America/New_York:20240715T120000
DTEND;TZID=America/New_York:20240715T120000
DTSTAMP:20260423T045454
CREATED:20231227T160906Z
LAST-MODIFIED:20231227T160906Z
UID:15608-1721044800-1721044800@toknc.com
SUMMARY:Recreation Advisory Board
DESCRIPTION:
URL:https://toknc.com/event/recreation-advisory-board-106/
LOCATION:Town Hall\, 134 E Mountain St\, Kernersville\, NC\, 27284\, United States
CATEGORIES:Recreation Advisory Board
END:VEVENT
BEGIN:VEVENT
DTSTART;TZID=America/New_York:20240617T120000
DTEND;TZID=America/New_York:20240617T120000
DTSTAMP:20260423T045454
CREATED:20231227T160845Z
LAST-MODIFIED:20231227T160845Z
UID:15606-1718625600-1718625600@toknc.com
SUMMARY:Recreation Advisory Board
DESCRIPTION:
URL:https://toknc.com/event/recreation-advisory-board-105/
LOCATION:Town Hall\, 134 E Mountain St\, Kernersville\, NC\, 27284\, United States
CATEGORIES:Recreation Advisory Board
END:VEVENT
BEGIN:VEVENT
DTSTART;TZID=America/New_York:20240520T120000
DTEND;TZID=America/New_York:20240520T120000
DTSTAMP:20260423T045454
CREATED:20231227T160825Z
LAST-MODIFIED:20231227T160825Z
UID:15604-1716206400-1716206400@toknc.com
SUMMARY:Recreation Advisory Board
DESCRIPTION:
URL:https://toknc.com/event/recreation-advisory-board-104/
LOCATION:Town Hall\, 134 E Mountain St\, Kernersville\, NC\, 27284\, United States
CATEGORIES:Recreation Advisory Board
END:VEVENT
BEGIN:VEVENT
DTSTART;TZID=America/New_York:20240415T120000
DTEND;TZID=America/New_York:20240415T120000
DTSTAMP:20260423T045454
CREATED:20231227T160804Z
LAST-MODIFIED:20231227T160804Z
UID:15602-1713182400-1713182400@toknc.com
SUMMARY:Recreation Advisory Board
DESCRIPTION:
URL:https://toknc.com/event/recreation-advisory-board-103/
LOCATION:Town Hall\, 134 E Mountain St\, Kernersville\, NC\, 27284\, United States
CATEGORIES:Recreation Advisory Board
END:VEVENT
BEGIN:VEVENT
DTSTART;TZID=America/New_York:20240318T120000
DTEND;TZID=America/New_York:20240318T120000
DTSTAMP:20260423T045454
CREATED:20231227T160738Z
LAST-MODIFIED:20231227T160738Z
UID:15600-1710763200-1710763200@toknc.com
SUMMARY:Recreation Advisory Board
DESCRIPTION:
URL:https://toknc.com/event/recreation-advisory-board-102/
LOCATION:Town Hall\, 134 E Mountain St\, Kernersville\, NC\, 27284\, United States
CATEGORIES:Recreation Advisory Board
END:VEVENT
BEGIN:VEVENT
DTSTART;TZID=America/New_York:20240219T120000
DTEND;TZID=America/New_York:20240219T120000
DTSTAMP:20260423T045454
CREATED:20231227T160717Z
LAST-MODIFIED:20231227T160717Z
UID:15598-1708344000-1708344000@toknc.com
SUMMARY:Recreation Advisory Board
DESCRIPTION:
URL:https://toknc.com/event/recreation-advisory-board-101/
LOCATION:Town Hall\, 134 E Mountain St\, Kernersville\, NC\, 27284\, United States
CATEGORIES:Recreation Advisory Board
END:VEVENT
BEGIN:VEVENT
DTSTART;TZID=America/New_York:20240122T120000
DTEND;TZID=America/New_York:20240122T120000
DTSTAMP:20260423T045454
CREATED:20231227T160634Z
LAST-MODIFIED:20231227T160634Z
UID:15596-1705924800-1705924800@toknc.com
SUMMARY:Recreation Advisory Board
DESCRIPTION:
URL:https://toknc.com/event/recreation-advisory-board-100/
LOCATION:Town Hall\, 134 E Mountain St\, Kernersville\, NC\, 27284\, United States
CATEGORIES:Recreation Advisory Board
END:VEVENT
BEGIN:VEVENT
DTSTART;TZID=America/New_York:20231218T120000
DTEND;TZID=America/New_York:20231218T120000
DTSTAMP:20260423T045454
CREATED:20230308T152032Z
LAST-MODIFIED:20230308T152032Z
UID:14493-1702900800-1702900800@toknc.com
SUMMARY:Recreation Advisory Board
DESCRIPTION:
URL:https://toknc.com/event/recreation-advisory-board-99/
LOCATION:Town Hall\, 134 E Mountain St\, Kernersville\, NC\, 27284\, United States
CATEGORIES:Recreation Advisory Board
END:VEVENT
BEGIN:VEVENT
DTSTART;TZID=America/New_York:20231120T120000
DTEND;TZID=America/New_York:20231120T120000
DTSTAMP:20260423T045454
CREATED:20230308T152004Z
LAST-MODIFIED:20231108T193539Z
UID:14491-1700481600-1700481600@toknc.com
SUMMARY:Recreation Advisory Board
DESCRIPTION:The regularly scheduled meeting of the Recreation Advisory Board for November 20 will not be held as scheduled. \nThe meeting has been changed to November 13. \n \n 
URL:https://toknc.com/event/recreation-advisory-board-98/
LOCATION:Town Hall\, 134 E Mountain St\, Kernersville\, NC\, 27284\, United States
CATEGORIES:Recreation Advisory Board
END:VEVENT
BEGIN:VEVENT
DTSTART;TZID=America/New_York:20231113T123000
DTEND;TZID=America/New_York:20231113T123000
DTSTAMP:20260423T045454
CREATED:20231108T193313Z
LAST-MODIFIED:20231108T193425Z
UID:15362-1699878600-1699878600@toknc.com
SUMMARY:Recreation Advisory Board meeting November 13
DESCRIPTION:The Recreation Advisory Board will hold a meeting at Town Hall on Monday\, November 13. \n  \nMembers will begin to gather together at 12:00 Noon. \n  \nThe meeting will begin at 12:30 PM. \n  \nThis meeting will be held in place of the scheduled meeting on November 20. \n 
URL:https://toknc.com/event/recreation-advisory-board-meeting-november-13/
LOCATION:Town Hall\, 134 E Mountain St\, Kernersville\, NC\, 27284\, United States
CATEGORIES:Recreation Advisory Board
END:VEVENT
BEGIN:VEVENT
DTSTART;TZID=America/New_York:20231016T120000
DTEND;TZID=America/New_York:20231016T120000
DTSTAMP:20260423T045454
CREATED:20230308T151912Z
LAST-MODIFIED:20230308T151912Z
UID:14488-1697457600-1697457600@toknc.com
SUMMARY:Recreation Advisory Board
DESCRIPTION:
URL:https://toknc.com/event/recreation-advisory-board-97/
LOCATION:Town Hall\, 134 E Mountain St\, Kernersville\, NC\, 27284\, United States
CATEGORIES:Recreation Advisory Board
END:VEVENT
BEGIN:VEVENT
DTSTART;TZID=America/New_York:20230918T120000
DTEND;TZID=America/New_York:20230918T120000
DTSTAMP:20260423T045454
CREATED:20230308T151845Z
LAST-MODIFIED:20230412T032759Z
UID:14486-1695038400-1695038400@toknc.com
SUMMARY:Recreation Advisory Board
DESCRIPTION:The Community Appearance Commission meeting will be held at the Public Services building at 509 Michael Street\, Kernersville NC 27284.
URL:https://toknc.com/event/recreation-advisory-board-96/
LOCATION:Public Services Building\, 509 Michael Street\, Kernersville\, NC\, 27284\, United States
CATEGORIES:Recreation Advisory Board
END:VEVENT
BEGIN:VEVENT
DTSTART;TZID=America/New_York:20230821T120000
DTEND;TZID=America/New_York:20230821T120000
DTSTAMP:20260423T045454
CREATED:20230308T151821Z
LAST-MODIFIED:20230308T151821Z
UID:14484-1692619200-1692619200@toknc.com
SUMMARY:Recreation Advisory Board
DESCRIPTION:
URL:https://toknc.com/event/recreation-advisory-board-95/
LOCATION:Town Hall\, 134 E Mountain St\, Kernersville\, NC\, 27284\, United States
CATEGORIES:Recreation Advisory Board
END:VEVENT
BEGIN:VEVENT
DTSTART;TZID=America/New_York:20230717T120000
DTEND;TZID=America/New_York:20230717T120000
DTSTAMP:20260423T045454
CREATED:20230308T151749Z
LAST-MODIFIED:20230308T151749Z
UID:14482-1689595200-1689595200@toknc.com
SUMMARY:Recreation Advisory Board
DESCRIPTION:
URL:https://toknc.com/event/recreation-advisory-board-94/
LOCATION:Town Hall\, 134 E Mountain St\, Kernersville\, NC\, 27284\, United States
CATEGORIES:Recreation Advisory Board
END:VEVENT
BEGIN:VEVENT
DTSTART;TZID=America/New_York:20230619T120000
DTEND;TZID=America/New_York:20230619T120000
DTSTAMP:20260423T045454
CREATED:20230308T151722Z
LAST-MODIFIED:20230308T151722Z
UID:14480-1687176000-1687176000@toknc.com
SUMMARY:Recreation Advisory Board
DESCRIPTION:
URL:https://toknc.com/event/recreation-advisory-board-93/
LOCATION:Town Hall\, 134 E Mountain St\, Kernersville\, NC\, 27284\, United States
CATEGORIES:Recreation Advisory Board
END:VEVENT
BEGIN:VEVENT
DTSTART;TZID=America/New_York:20230515T120000
DTEND;TZID=America/New_York:20230515T120000
DTSTAMP:20260423T045454
CREATED:20230308T151654Z
LAST-MODIFIED:20230308T151654Z
UID:14478-1684152000-1684152000@toknc.com
SUMMARY:Recreation Advisory Board
DESCRIPTION:
URL:https://toknc.com/event/recreation-advisory-board-92/
LOCATION:Town Hall\, 134 E Mountain St\, Kernersville\, NC\, 27284\, United States
CATEGORIES:Recreation Advisory Board
END:VEVENT
BEGIN:VEVENT
DTSTART;TZID=America/New_York:20230417T120000
DTEND;TZID=America/New_York:20230417T120000
DTSTAMP:20260423T045454
CREATED:20230308T151622Z
LAST-MODIFIED:20230308T151622Z
UID:14476-1681732800-1681732800@toknc.com
SUMMARY:Recreation Advisory Board
DESCRIPTION:
URL:https://toknc.com/event/recreation-advisory-board-91/
LOCATION:Town Hall\, 134 E Mountain St\, Kernersville\, NC\, 27284\, United States
CATEGORIES:Recreation Advisory Board
END:VEVENT
BEGIN:VEVENT
DTSTART;TZID=America/New_York:20230320T120000
DTEND;TZID=America/New_York:20230320T120000
DTSTAMP:20260423T045454
CREATED:20230308T151500Z
LAST-MODIFIED:20230308T151500Z
UID:14474-1679313600-1679313600@toknc.com
SUMMARY:Recreation Advisory Board
DESCRIPTION:
URL:https://toknc.com/event/recreation-advisory-board-90/
LOCATION:Town Hall\, 134 E Mountain St\, Kernersville\, NC\, 27284\, United States
CATEGORIES:Recreation Advisory Board
END:VEVENT
BEGIN:VEVENT
DTSTART;TZID=America/New_York:20230220T120000
DTEND;TZID=America/New_York:20230220T120000
DTSTAMP:20260423T045454
CREATED:20230217T193136Z
LAST-MODIFIED:20230217T193136Z
UID:14394-1676894400-1676894400@toknc.com
SUMMARY:Recreation Advisory Board
DESCRIPTION:
URL:https://toknc.com/event/recreation-advisory-board-88/
LOCATION:Town Hall\, 134 E Mountain St\, Kernersville\, NC\, 27284\, United States
CATEGORIES:Recreation Advisory Board
END:VEVENT
BEGIN:VEVENT
DTSTART;TZID=America/New_York:20230123T120000
DTEND;TZID=America/New_York:20230123T120000
DTSTAMP:20260423T045454
CREATED:20230217T193221Z
LAST-MODIFIED:20230217T193221Z
UID:14396-1674475200-1674475200@toknc.com
SUMMARY:Recreation Advisory Board
DESCRIPTION:
URL:https://toknc.com/event/recreation-advisory-board-89/
LOCATION:Town Hall\, 134 E Mountain St\, Kernersville\, NC\, 27284\, United States
CATEGORIES:Recreation Advisory Board
END:VEVENT
BEGIN:VEVENT
DTSTART;TZID=America/New_York:20221219T120000
DTEND;TZID=America/New_York:20221219T120000
DTSTAMP:20260423T045454
CREATED:20211230T144040Z
LAST-MODIFIED:20211230T144040Z
UID:12368-1671451200-1671451200@toknc.com
SUMMARY:Recreation Advisory Board
DESCRIPTION:
URL:https://toknc.com/event/recreation-advisory-board-84/
LOCATION:North Carolina
CATEGORIES:Recreation Advisory Board
END:VEVENT
BEGIN:VEVENT
DTSTART;TZID=America/New_York:20221121T120000
DTEND;TZID=America/New_York:20221121T120000
DTSTAMP:20260423T045454
CREATED:20211230T144039Z
LAST-MODIFIED:20211230T144039Z
UID:12367-1669032000-1669032000@toknc.com
SUMMARY:Recreation Advisory Board
DESCRIPTION:
URL:https://toknc.com/event/recreation-advisory-board-83/
LOCATION:North Carolina
CATEGORIES:Recreation Advisory Board
END:VEVENT
BEGIN:VEVENT
DTSTART;TZID=America/New_York:20221024T190000
DTEND;TZID=America/New_York:20221024T190000
DTSTAMP:20260423T045454
CREATED:20221014T200138Z
LAST-MODIFIED:20221014T200138Z
UID:13827-1666638000-1666638000@toknc.com
SUMMARY:Recreation Advisory Board
DESCRIPTION:The October meeting of the Recreation Advisory Board will be held at 7:00 PM on October 24. \nThis is rescheduled from the October 17 meeting and is at a different time.
URL:https://toknc.com/event/recreation-advisory-board-87/
LOCATION:Town Hall\, 134 E Mountain St\, Kernersville\, NC\, 27284\, United States
CATEGORIES:Recreation Advisory Board
END:VEVENT
BEGIN:VEVENT
DTSTART;TZID=America/New_York:20221017T120000
DTEND;TZID=America/New_York:20221017T120000
DTSTAMP:20260423T045454
CREATED:20211230T144028Z
LAST-MODIFIED:20221014T200010Z
UID:12366-1666008000-1666008000@toknc.com
SUMMARY:Recreation Advisory Board
DESCRIPTION:The October meeting of the Recreation Advisory Board will be held at 7:00 PM on October 24. \nThis is rescheduled from the October 17 meeting and is at a different time.
URL:https://toknc.com/event/recreation-advisory-board-82/
LOCATION:North Carolina
CATEGORIES:Recreation Advisory Board
END:VEVENT
BEGIN:VEVENT
DTSTART;TZID=America/New_York:20220926T120000
DTEND;TZID=America/New_York:20220926T120000
DTSTAMP:20260423T045454
CREATED:20220915T200840Z
LAST-MODIFIED:20220915T200840Z
UID:13636-1664193600-1664193600@toknc.com
SUMMARY:Recreation Advisory Board
DESCRIPTION:The September meeting of the Recreation Advisory Board will be held on September 26 at the Recreation Center at 125 East Bodenhamer Street. \n  \nThis is rescheduled from the September 19 meeting and is at a different location from the September 19 meeting.
URL:https://toknc.com/event/recreation-advisory-board-86/
LOCATION:Kernersville Community Recreation Center\, 1223 Union Cross Road\, Kernersville\, North Carolina\, 27284
CATEGORIES:Recreation Advisory Board
END:VEVENT
BEGIN:VEVENT
DTSTART;TZID=America/New_York:20220919T120000
DTEND;TZID=America/New_York:20220919T120000
DTSTAMP:20260423T045454
CREATED:20211230T144027Z
LAST-MODIFIED:20220915T200712Z
UID:12365-1663588800-1663588800@toknc.com
SUMMARY:Recreation Advisory Board
DESCRIPTION:The September meeting of the Recreation Advisory Board will be held on September 26 at the Recreation Center at 125 East Bodenhamer Street. \n  \nThis is rescheduled from the September 19 meeting and is at a different location from the September 19 meeting.
URL:https://toknc.com/event/recreation-advisory-board-81/
LOCATION:North Carolina
CATEGORIES:Recreation Advisory Board
END:VEVENT
BEGIN:VEVENT
DTSTART;TZID=America/New_York:20220829T120000
DTEND;TZID=America/New_York:20220829T130000
DTSTAMP:20260423T045454
CREATED:20220812T195407Z
LAST-MODIFIED:20220812T195606Z
UID:13550-1661774400-1661778000@toknc.com
SUMMARY:Recreation Advisory Board
DESCRIPTION:This meeting was originally scheduled for August 15.
URL:https://toknc.com/event/recreation-advisory-board-85/
LOCATION:North Carolina
CATEGORIES:Recreation Advisory Board
END:VEVENT
BEGIN:VEVENT
DTSTART;TZID=America/New_York:20220815T120000
DTEND;TZID=America/New_York:20220815T120000
DTSTAMP:20260423T045454
CREATED:20211230T144026Z
LAST-MODIFIED:20220812T195253Z
UID:12364-1660564800-1660564800@toknc.com
SUMMARY:Recreation Advisory Board
DESCRIPTION:This meeting date has been changed to August 29.
URL:https://toknc.com/event/recreation-advisory-board-80/
LOCATION:North Carolina
CATEGORIES:Recreation Advisory Board
END:VEVENT
BEGIN:VEVENT
DTSTART;TZID=America/New_York:20220718T120000
DTEND;TZID=America/New_York:20220718T120000
DTSTAMP:20260423T045454
CREATED:20211230T144025Z
LAST-MODIFIED:20211230T144025Z
UID:12363-1658145600-1658145600@toknc.com
SUMMARY:Recreation Advisory Board
DESCRIPTION:
URL:https://toknc.com/event/recreation-advisory-board-79/
LOCATION:North Carolina
CATEGORIES:Recreation Advisory Board
END:VEVENT
END:VCALENDAR