BEGIN:VCALENDAR
VERSION:2.0
PRODID:-//Town of Kernersville - ECPv6.15.17.1//NONSGML v1.0//EN
CALSCALE:GREGORIAN
METHOD:PUBLISH
X-WR-CALNAME:Town of Kernersville
X-ORIGINAL-URL:https://toknc.com
X-WR-CALDESC:Events for Town of Kernersville
REFRESH-INTERVAL;VALUE=DURATION:PT1H
X-Robots-Tag:noindex
X-PUBLISHED-TTL:PT1H
BEGIN:VTIMEZONE
TZID:America/New_York
BEGIN:DAYLIGHT
TZOFFSETFROM:-0500
TZOFFSETTO:-0400
TZNAME:EDT
DTSTART:20230312T070000
END:DAYLIGHT
BEGIN:STANDARD
TZOFFSETFROM:-0400
TZOFFSETTO:-0500
TZNAME:EST
DTSTART:20231105T060000
END:STANDARD
BEGIN:DAYLIGHT
TZOFFSETFROM:-0500
TZOFFSETTO:-0400
TZNAME:EDT
DTSTART:20240310T070000
END:DAYLIGHT
BEGIN:STANDARD
TZOFFSETFROM:-0400
TZOFFSETTO:-0500
TZNAME:EST
DTSTART:20241103T060000
END:STANDARD
BEGIN:DAYLIGHT
TZOFFSETFROM:-0500
TZOFFSETTO:-0400
TZNAME:EDT
DTSTART:20250309T070000
END:DAYLIGHT
BEGIN:STANDARD
TZOFFSETFROM:-0400
TZOFFSETTO:-0500
TZNAME:EST
DTSTART:20251102T060000
END:STANDARD
END:VTIMEZONE
BEGIN:VEVENT
DTSTART;TZID=America/New_York:20241209T183000
DTEND;TZID=America/New_York:20241209T183000
DTSTAMP:20260423T105458
CREATED:20231213T193330Z
LAST-MODIFIED:20231213T193330Z
UID:15499-1733769000-1733769000@toknc.com
SUMMARY:Planning Board Meeting
DESCRIPTION:Written comment prior to meeting\nKernersville residents wishing to submit a written comment to the Planning Board may do so via our online form. \nPublic Comment \nWritten comments can also be submitted at Town Hall to the Deputy Town Clerk at 134 East Mountain St\, Kernersville\, NC 27284\nComments must be received by 12pm the day of the meeting to be included in the agenda. \nMeeting Agenda\nThe Monday\, December 9\, 2024 Planning Board Meeting Agenda and Staff Reports will be posted on Thursday\, December 6\, 2024 on Civicweb. \nCivicWeb
URL:https://toknc.com/event/planning-board-meeting-37/
LOCATION:Council Chambers at Town Hall\, 134 E. Mountain St.\, Kernersville\, NC\, 27284\, United States
CATEGORIES:Planning Board
END:VEVENT
BEGIN:VEVENT
DTSTART;TZID=America/New_York:20241223T183000
DTEND;TZID=America/New_York:20241223T183000
DTSTAMP:20260423T105458
CREATED:20240116T180237Z
LAST-MODIFIED:20241204T170305Z
UID:15728-1734978600-1734978600@toknc.com
SUMMARY:Board of Adjustment
DESCRIPTION:This meeting has been cancelled.\nMeeting Agenda\nThe link to the Monday\, December 23\, 2024 Board of Adjustment Agenda is provided below. The Staff Report will be available Thursday\, December 19\, 2024 on Civicweb. \nCivicWeb
URL:https://toknc.com/event/board-of-adjustment-85/
LOCATION:Council Chambers at Town Hall\, 134 E. Mountain St.\, Kernersville\, NC\, 27284\, United States
CATEGORIES:Board of Adjustment
END:VEVENT
END:VCALENDAR